BEGIN:VCALENDAR
VERSION:2.0
PRODID:-//ChamberMaster//Event Calendar 2.0//EN
METHOD:PUBLISH
X-PUBLISHED-TTL:P1H
REFRESH-INTERVAL:P1H
CALSCALE:GREGORIAN
BEGIN:VTIMEZONE
TZID:America/Chicago
BEGIN:DAYLIGHT
RRULE:FREQ=YEARLY;BYMONTH=3;BYDAY=2SU
DTSTART:20070101T000000
TZOFFSETFROM:-0600
TZOFFSETTO:-0500
TZNAME:Central Daylight Time
END:DAYLIGHT
BEGIN:STANDARD
RRULE:FREQ=YEARLY;BYMONTH=11;BYDAY=1SU
DTSTART:20070101T000000
TZOFFSETFROM:-0500
TZOFFSETTO:-0600
TZNAME:Central Standard Time
END:STANDARD
END:VTIMEZONE
BEGIN:VEVENT
DTSTART;VALUE=DATE:20260704
DTEND;VALUE=DATE:20260705
TRANSP:TRANSPARENT
X-MICROSOFT-CDO-ALLDAYEVENT:TRUE
SUMMARY:Excelsior Firecracker Run 2026
DESCRIPTION:Enter the Lake Minnetonka Running Series Challenge!Join the LMRS on Strava: Excelsior\, Minnesota Club | Excelsior-Lake Minnetonka Run Series on StravaView our events page for sponsors\, FAQs\, a full schedule of events and more!What: Celebrate the 4th of July with a dash of excitement at the Excelsior Firecracker Run! Choose your perfect distance with options to run a scenic 10k\, a spirited 5k\, or a family-friendly 1 Mile route. Race along the picturesque shores of Lake Minnetonka and through the historic streets of Excelsior\, Shorewood\, Deephaven and Greenwood\, and make it a day of patriotic fun by bringing your friends and family to volunteer and enjoy post-race festivities. Where: Excelsior Elementary SchoolWhen: July 4\, 2026. Beginning at 7 AM.\n\nPLEASE NOTE: Registration option "with shirt" will close end of day June 18th. If you missed the option to register with a shirt and would like to purchase one\, we will have a limited quantity available at the merchandise table for sale during packet pick-up on a first come\, first served basis. The Excelsior-Lake Minnetonka Chamber of Commerce is a 501(c)6 non-profit entity whose mission is to promote the economic well-being of all member businesses as well as to enhance the image of Excelsior as a great place to live\, work and visit.
X-ALT-DESC;FMTTYPE=text/html:<!DOCTYPE html><html><head><title></title></head><body aria-disabled="false"><p><span style="font-size: 18px\;">Enter the <a fr-original-style="" href="https://www.excelsiorlakeminnetonkachamber.com/lake-minnetonka-running-series/" style="user-select: auto\;"><strong fr-original-style="" style="font-weight: 700\;">Lake Minnetonka Running Series Challenge</strong></a>!</span></p><p><span style="font-size: 18px\;">Join the <a fr-original-style="" href="https://www.excelsiorlakeminnetonkachamber.com/lake-minnetonka-running-series/" style="user-select: auto\;"><strong fr-original-style="" style="font-weight: 700\;">LMRS</strong></a> on Strava: </span><a fr-original-style="" href="https://www.strava.com/clubs/1665335?utm_campaign=club_share&utm_content=1665335&utm_medium=widget&utm_source=www.excelsiorlakeminnetonkachamber.com" style="user-select: auto\;"><span style="font-size: 18px\;">Excelsior\, Minnesota Club | Excelsior-Lake Minnetonka Run Series on Strava</span></a></p><p><a fr-original-style="" href="https://www.excelsiorlakeminnetonkachamber.com/firecracker-race/" style="user-select: auto\;"><strong fr-original-style="" style="font-weight: 700\;"><span style="font-size: 18px\;">View our events page</span></strong></a><span style="font-size: 18px\;">&nbsp\;for sponsors\, FAQs\, a full schedule of events and more!</span></p><p><span style="font-size: 18px\;">What: Celebrate the 4th of July with a dash of excitement at the Excelsior Firecracker Run! Choose your perfect distance with options to run a scenic 10k\, a spirited 5k\, or a family-friendly 1 Mile route. Race along the picturesque shores of Lake Minnetonka and through the historic streets of Excelsior\, Shorewood\, Deephaven and Greenwood\, and make it a day of patriotic fun by bringing your friends and family to volunteer and enjoy post-race festivities.&nbsp\;</span></p><p><span style="font-size: 18px\;">Where: Excelsior Elementary School</span></p><p><span style="font-size: 18px\;">When: July 4\, 2026. Beginning at 7 AM.<br><br>PLEASE NOTE: Registration option &quot\;with shirt&quot\; will close end of day June 18th. If you missed the option to register with a shirt and would like to purchase one\, we will have a limited quantity available at the merchandise table for sale during packet pick-up on a first come\, first served basis.&nbsp\;</span></p><p><span style="font-size: 12px\;">The Excelsior-Lake Minnetonka Chamber of Commerce is a 501(c)6 non-profit entity whose mission is to promote the economic well-being of all member businesses as well as to enhance the image of Excelsior as a great place to live\, work and visit.&nbsp\;</span><span style="color: rgb(51\, 51\, 51)\; font-family: Koulen\, sans-serif\; font-size: 12px\; font-style: normal\; font-variant-ligatures: normal\; font-variant-caps: normal\; font-weight: 400\; letter-spacing: normal\; orphans: 2\; text-align: start\; text-indent: 0px\; text-transform: none\; white-space: normal\; widows: 2\; word-spacing: 0px\; -webkit-text-stroke-width: 0px\; text-decoration-thickness: initial\; text-decoration-style: initial\; text-decoration-color: initial\; float: none\; display: inline !important\;">&nbsp\;</span></p></body></html>
LOCATION:Excelsior MN 55331
UID:e.3024.1231588
SEQUENCE:3
DTSTAMP:20260423T220612Z
URL:https://business.excelsiorlakeminnetonkachamber.com/event-calendar/Details/excelsior-firecracker-run-2026-1438820?sourceTypeId=Hub
END:VEVENT
END:VCALENDAR
